BEGIN:VCALENDAR
VERSION:2.0
PRODID:-//Squarespace Inc/Squarespace 6//v6//EN
BEGIN:VEVENT
UID:5d3a300b56004f000182a938@squarespace.com
DTSTAMP:20170525T195951Z
DTSTART:20170704T200000Z
DTEND:20170704T210000Z
SUMMARY:July 4th
END:VEVENT
END:VCALENDAR
