BEGIN:VCALENDAR
VERSION:2.0
PRODID:-//Squarespace Inc/Squarespace 6//v6//EN
BEGIN:VEVENT
UID:5d3a300b56004f000182a937@squarespace.com
DTSTAMP:20170525T195931Z
DTSTART:20170614T200000Z
DTEND:20170614T210000Z
SUMMARY:Summer Mixes
END:VEVENT
END:VCALENDAR
