BEGIN:VCALENDAR
VERSION:2.0
PRODID:-//Squarespace Inc/Squarespace 6//v6//EN
BEGIN:VEVENT
UID:5d3a300b56004f000182a936@squarespace.com
DTSTAMP:20191101T021602Z
DTSTART:20191116T211500Z
DTEND:20191116T221500Z
SUMMARY:The (first ever) New Zealand Balance Bike Championships
END:VEVENT
END:VCALENDAR
